Workbook

Sheet １．養殖施設の設置状況
A1: 令和 年 | B1: くろまぐろ養殖実績報告書
D2: 令和 年 月 日
A3: 農林水産大臣 殿
A5: =A1 -> 令和 年 | B5: １月１日から１２月31日における養殖くろまぐろに係る実績報告を提出します。
B7: 都道府県
B8: 免許番号 | C8: ●●
B9: 免許条件
B10: 漁業権者の氏名 （法人にあっては名称及び代表者の氏名） | C10: ●●
B11: くろまぐろを養殖している者の 住所（法人にあっては所在地） | C11: ●●
B12: 郵便番号 ７桁（ハイフン含あり） | C12: 000-0000
B13: 電話番号 | C13: ●●
B14: くろまぐろを養殖している者の氏名 （法人にあっては名称及び代表者の氏名） | C14: ●●
B15: 報告書作成者の氏名 | C15: ●●
B17: ＜全項目共通の注意事項＞
B18: １ 色塗りされたセルへ必要事項を入力すること。
B19: ２ 入力する際は、項目ごとの「注」に従い記入すること。
B20: ３ 必要があれば、入力欄内で行を増やして記入すること。
B22: １．養殖施設の設置状況
B24: 形状 | C24: 規格（ｍ） | D24: 数量（台）
B35: 注１ 当年において生産を行うことを目的に設置したいけす等の養殖施設について、全て記入すること。
B36: 注２ 「形状」は、プルダウンリスト（円形、楕円形、正方形、長方形、正六角形、正八角形、その他）の中から選択すること。
B37: 注３ 「規格」は、次の例を参考に記入すること。
B38: 例． 円形（直径：○、深さ：○）、楕円形（長径：○、短径：○、深さ：○）、正方形（一辺：○、深さ：○）、長方形（縦：○、横：○、深さ：○）、
B39: 正六角形（一辺：○、深さ：○）、正八角形（一辺：○、深さ：○）、その他（規格が分かるように記入）

Sheet ２．種苗の活込状況及び入手先
A1: ２．種苗の活込状況及び入手先 | K1: ='１．養殖施設の設置状況'!C7 -> 0
K2: ='１．養殖施設の設置状況'!C8 -> ●●
A3: （１）天然種苗 | B3: 活込月 | C3: 尾数 | D3: 平均重量 （㎏/尾） | E3: 採捕の方法 | F3: 入手先の氏名（法人にあっては名称） | G3: 入手先の住所（法人にあっては所在地） | K3: ='１．養殖施設の設置状況'!C9 -> 0
K4: ='１．養殖施設の設置状況'!C10 -> ●●
K5: ='１．養殖施設の設置状況'!C11 -> ●●
K6: ='１．養殖施設の設置状況'!C12 -> 000-0000
K7: ='１．養殖施設の設置状況'!C13 -> ●●
K8: ='１．養殖施設の設置状況'!C14 -> ●●
K9: ='１．養殖施設の設置状況'!C15 -> ●●
A17: （２）人工種苗 | B17: 活込月 | C17: 尾数 | D17: 平均重量 （㎏/尾） | F17: 入手先の氏名（法人にあっては名称） | G17: 入手先の住所（法人にあっては所在地）
A30: 注４ 当年における種苗の入手先及び活込み状況を記入すること。なお、同じ「活込月」において複数の入手先がある場合、入手先毎に行を設けること。
A31: 注５ 「種苗の活込み」とは、天然から採捕又は人工的に採卵・孵化したくろまぐろを、初めて区画漁業権の設定された海面の養殖施設に投入することをいう。
A32: 注６ 入手先は、原則として契約相手方を記入すること。なお、契約相手方が漁業協同組合の場合は漁業協同組合の名称及び所在地を、
A33: 複数の者から成る船団の場合は「代表者○○○○ほか○名」等と該当する入手先及び住所を、それぞれ記入した上で別添に合わせて記載すること。
A34: 注７ 入手先が自己の場合は、「入手先の氏名（法人にあっては名称）」に「自己」（法人にあっては、「自社」）と記入し、「入手先の住所（法人にあっては所在地）」は空欄とすること。
A35: 注８ 「採捕の方法」は、プルダウンリスト（曳き縄、まき網、その他）の中から選択すること。
A36: 注９ 「平均重量」は、目視、経験則又は数尾の直接計測等による記入でよい。なお、小数点１桁まで記入すること。

Sheet 別添
F1: （別添） | K1: ='１．養殖施設の設置状況'!C7 -> 0
K2: ='１．養殖施設の設置状況'!C8 -> ●●
B3: ='１．養殖施設の設置状況'!A5 -> 令和 年 | C3: くろまぐろ天然種苗採捕者の報告書 | K3: ='１．養殖施設の設置状況'!C9 -> 0
K4: ='１．養殖施設の設置状況'!C10 -> ●●
A5: 天然種苗の入手先において、種苗を採捕した者・船団の構成員は、以下のとおりです。 | K5: ='１．養殖施設の設置状況'!C11 -> ●●
A6: 氏名 （法人にあっては名称） | B6: 使用船舶名 | C6: 漁船登録番号 | D6: 総トン数 | E6: 所属漁業協同 組合名 | F6: 採捕の方法 | G6: 漁船登録番号（半角） | K6: ='１．養殖施設の設置状況'!C12 -> 000-0000
G7: =ASC(C7) | K7: ='１．養殖施設の設置状況'!C13 -> ●●
G8: =ASC(C8) | K8: ='１．養殖施設の設置状況'!C14 -> ●●
G9: =ASC(C9) | K9: ='１．養殖施設の設置状況'!C15 -> ●●
G10: =ASC(C10)
G11: =ASC(C11)
G12: =ASC(C12)
G13: =ASC(C13)
G14: =ASC(C14)
G15: =ASC(C15)
G16: =ASC(C16)
G17: =ASC(C17)
G18: =ASC(C18)
G19: =ASC(C19)
G20: =ASC(C20)
G21: =ASC(C21)
... G214: =ASC(C214)

Sheet ３．移送した状況
A1: ３．移送した状況 | K1: ='１．養殖施設の設置状況'!C7 -> 0
K2: ='１．養殖施設の設置状況'!C8 -> ●●
A3: （１）天然種苗由来 | B3: 移送月（出） | C3: 尾数 | D3: 平均重量 （㎏/尾） | E3: 活込み の区分 | F3: 活込み年月 （年月） | G3: 移送先の氏名（法人にあっては名称） | H3: 移送先の住所（法人にあっては所在地） | K3: ='１．養殖施設の設置状況'!C9 -> 0
K4: ='１．養殖施設の設置状況'!C10 -> ●●
K5: ='１．養殖施設の設置状況'!C11 -> ●●
K6: ='１．養殖施設の設置状況'!C12 -> 000-0000
K7: ='１．養殖施設の設置状況'!C13 -> ●●
K8: ='１．養殖施設の設置状況'!C14 -> ●●
K9: ='１．養殖施設の設置状況'!C15 -> ●●
A17: （２）人工種苗由来 | B17: 移送月（出） | C17: 尾数 | D17: 平均重量 （㎏/尾） | E17: 活込み の区分 | F17: 活込み年月 （年月） | G17: 移送先の氏名（法人にあっては名称） | H17: 移送先の住所（法人にあっては所在地）
A30: 注1０ 当年における養殖くろまぐろの移送状況を記入すること。なお、同じ「移送月」において複数の移送先がある場合、移送先毎に行を設けること。
A31: 注1１ 「移送」とは、免許番号の異なる漁場の養殖施設又は同免許番号の漁場内の他者の養殖施設に魚を移すことをいう。
A32: 注1２ 「活込みの区分」は、移送した養殖くろまぐろが種苗の活込みから養成したものであれば「種苗」を、移送されたものを養成したものであれば「移送」を、プルダウンリストより選択すること。
A33: なお、両者を混養し区別ができない場合は、「種苗・移送」を選択することとするが、可能な限り区別して養成すること。
A34: 注1３ 「活込み年月」について、活込み年月の異なる魚を同一養殖施設内に養成している場合は、該当する年月を全て記入すること。
A35: 注1４ 移送先が自己の場合は、「移送先の氏名（法人にあっては名称）」に「自己」（法人にあっては、「自社」）と記入し、「移送先の住所（法人にあっては所在地）」は空欄とすること。
A36: 注1５ 「平均重量」は、死魚の平均重量や、目視、経験則又は数尾の直接計測等による記入でよい。なお、小数点１桁まで記入すること。

Sheet ４．移送された状況
A1: ４．移送された状況 | K1: ='１．養殖施設の設置状況'!C7 -> 0
K2: ='１．養殖施設の設置状況'!C8 -> ●●
A3: （１）天然種苗由来 | B3: 移送活込月（入） | C3: 尾数 | D3: 平均重量 （㎏/尾） | E3: 移送元の氏名（法人にあっては名称） | F3: 移送元の住所（法人にあっては所在地） | G3: 移送元の区画免許番号 | K3: ='１．養殖施設の設置状況'!C9 -> 0
K4: ='１．養殖施設の設置状況'!C10 -> ●●
K5: ='１．養殖施設の設置状況'!C11 -> ●●
K6: ='１．養殖施設の設置状況'!C12 -> 000-0000
K7: ='１．養殖施設の設置状況'!C13 -> ●●
K8: ='１．養殖施設の設置状況'!C14 -> ●●
K9: ='１．養殖施設の設置状況'!C15 -> ●●
A17: （２）人工種苗由来 | B17: 移送活込月（入） | C17: 尾数 | D17: 平均重量 （㎏/尾） | E17: 移送元の氏名（法人にあっては名称） | F17: 移送元の住所（法人にあっては所在地） | G17: 移送元の区画免許番号
A30: 注1６ 当年において移送された養殖くろまぐろの活込み状況を記入すること。なお、同じ「移送活込月」において複数の移送元がある場合、移送元毎に行を設けること。
A31: 注1７ 移送元が自己の場合は、「移送元の氏名（法人にあっては名称）」に「自己」（法人にあっては、「自社」）と記入し、「移送元の住所（法人にあっては所在地）」を空欄とした上で
A32: 「移送元の区画免許番号」を記入すること。
A33: 注1８ 「平均重量」は、死魚の平均重量や、目視、経験則又は数尾の直接計測等による記入でよい。なお、小数点１桁まで記入すること。

Sheet ５．斃死状況
A1: ５．斃死状況 | K1: ='１．養殖施設の設置状況'!C7 -> 0
K2: ='１．養殖施設の設置状況'!C8 -> ●●
A3: （１）天然種苗由来 | B3: 斃死月 | C3: 尾数 | D3: 重量 （㎏） | E3: 活込み の区分 | F3: 活込み年月 （年月） | K3: ='１．養殖施設の設置状況'!C9 -> 0
K4: ='１．養殖施設の設置状況'!C10 -> ●●
K5: ='１．養殖施設の設置状況'!C11 -> ●●
K6: ='１．養殖施設の設置状況'!C12 -> 000-0000
K7: ='１．養殖施設の設置状況'!C13 -> ●●
K8: ='１．養殖施設の設置状況'!C14 -> ●●
K9: ='１．養殖施設の設置状況'!C15 -> ●●
A17: （２）人工種苗由来 | B17: 斃死月 | C17: 尾数 | D17: 重量 （㎏） | E17: 活込み の区分 | F17: 活込み年月 （年月）
A30: 注１９ 当年における養殖くろまぐろの斃死状況を記入すること。なお、同じ「斃死月」において複数の「活込みの区分」がある場合、「活込みの区分」毎に行を設けること。
A31: 注２０ 「重量」は、原魚の重量（鰓や内臓を除去する前の状態の重量）を記入すること。なお、鰓や内臓を除去した魚については、１．１５を乗じた重量を用い、原魚の重量に換算すること。
A32: 注２１ 「活込みの区分」は、出荷した養殖くろまぐろが種苗の活込みから養成したものであれば「種苗」を、移送されたものを養成したものであれば「移送」を、プルダウンリストより選択すること。
A33: なお、両者を混養し区別ができない場合は、「種苗・移送」を選択することとするが、可能な限り区別して養成すること。
A34: 注2２ 「活込み年月」について、活込み年月の異なる魚を同一養殖施設内に養成している場合は、該当する年月を全て記入すること。

Sheet ６．出荷状況
A1: ６．出荷状況 | K1: ='１．養殖施設の設置状況'!C7 -> 0
K2: ='１．養殖施設の設置状況'!C8 -> ●●
A3: （１）天然種苗由来 | B3: 出荷月 | C3: 尾数 | D3: 重量 （㎏） | E3: 活込み の区分 | F3: 活込み年月 （年月） | K3: ='１．養殖施設の設置状況'!C9 -> 0
K4: ='１．養殖施設の設置状況'!C10 -> ●●
K5: ='１．養殖施設の設置状況'!C11 -> ●●
K6: ='１．養殖施設の設置状況'!C12 -> 000-0000
K7: ='１．養殖施設の設置状況'!C13 -> ●●
K8: ='１．養殖施設の設置状況'!C14 -> ●●
K9: ='１．養殖施設の設置状況'!C15 -> ●●
A17: （２）人工種苗由来 | B17: 出荷月 | C17: 尾数 | D17: 重量 （㎏） | E17: 活込み の区分 | F17: 活込み年月 （年月）
A30: 注２３ 当年における養殖くろまぐろの出荷状況を記入すること。なお、同じ「出荷月」において複数の「活込みの区分」がある場合、「活込みの区分」毎に行を設けること。
A31: 注２４ 「重量」は、原魚の重量（鰓や内臓を除去する前の状態の重量）を記入すること。なお、鰓や内臓を除去した魚については、１．１５を乗じた重量を用い、原魚の重量に換算すること。
A32: 注２５ 「活込みの区分」は、出荷した養殖くろまぐろが種苗の活込みから養成したものであれば「種苗」を、移送されたものを養成したものであれば「移送」を、プルダウンリストより選択すること。
A33: なお、両者を混養し区別ができない場合は、「種苗・移送」を選択することとするが、可能な限り区別して養成すること。
A34: 注２６ 「活込み年月」について、活込み年月の異なる魚を同一養殖施設内に養成している場合は、該当する年月を全て記入すること。

Sheet 【自動集計表】
B1: 自動集計表
C2: 活込尾数 | F2: 移送（入） | H2: 移送（出） | J2: 出荷 | P2: 斃死 | R2: 合計
J3: 天然由来 | M3: 人工由来
C4: 天然種苗 (≧２kg） | D4: 天然種苗 （＜２kg） | E4: 人工種苗 | F4: 天然由来 | G4: 人工由来 | H4: 天然由来 | I4: 人工由来 | J4: 尾数 | K4: 重量 | L4: 平均重量 | M4: 尾数 | N4: 重量 | O4: 平均重量 | P4: 天然由来 | Q4: 人工由来
B5: 1月 | C5: =+SUMIFS('２．種苗の活込状況及び入手先'!$C4:$C15,'２．種苗の活込状況及び入手先'!$B4:$B15,B5,'２．種苗の活込状況及び入手先'!$D4:$D15,">=2") -> 0 | D5: =+SUMIFS('２．種苗の活込状況及び入手先'!$C4:$C15,'２．種苗の活込状況及び入手先'!$B4:$B15,"1月",'２．種苗の活込状況及び入手先'!$D4:$D15,"<2") -> 0 | E5: =SUMIF('２．種苗の活込状況及び入手先'!B18:B29,【自動集計表】!B5,'２．種苗の活込状況及び入手先'!C18:C29) -> 0 | F5: =SUMIF('４．移送された状況'!$B$4:$B$15,【自動集計表】!$B5,'４．移送された状況'!$C$4:$C$15) -> 0 | G5: =SUMIF('４．移送された状況'!$B$18:$B$29,【自動集計表】!$B5,'４．移送された状況'!$C$18:$C$29) -> 0 | H5: =SUMIF('３．移送した状況'!$B$4:$B$15,【自動集計表】!$B5,'３．移送した状況'!$C$4:$C$15) -> 0 | I5: =SUMIF('３．移送した状況'!$B$18:$B$29,【自動集計表】!$B5,'３．移送した状況'!$C$18:$C$29) -> 0 | J5: =SUMIF('６．出荷状況'!B4:B15,【自動集計表】!B5,'６．出荷状況'!C4:C15) -> 0 | K5: =SUMIF('６．出荷状況'!$B$4:$B$15,【自動集計表】!$B5,'６．出荷状況'!$D$4:$D$15) -> 0 | L5: =K5/J5 -> #DIV/0! | M5: =SUMIF('６．出荷状況'!B18:B29,【自動集計表】!B5,'６．出荷状況'!C18:C29) -> 0 | N5: =SUMIF('６．出荷状況'!$B$18:$B$29,【自動集計表】!$B5,'６．出荷状況'!$D$18:$D$29) -> 0 | O5: =N5/M5 -> #DIV/0! | P5: =SUMIF('５．斃死状況'!B4:B15,【自動集計表】!B5,'５．斃死状況'!C4:C15) -> 0 | Q5: =SUMIF('５．斃死状況'!B18:B29,【自動集計表】!B5,'５．斃死状況'!C18:C29) -> 0 | R5: =+SUM(C5:G5)-(+SUM(H5:I5,J5,M5,P5:Q5)) -> 0
B6: 2月 | C6: =+SUMIFS('２．種苗の活込状況及び入手先'!$C4:$C15,'２．種苗の活込状況及び入手先'!$B4:$B15,"2月",'２．種苗の活込状況及び入手先'!$D4:$D15,">=2") -> 0 | D6: =+SUMIFS('２．種苗の活込状況及び入手先'!$C4:$C15,'２．種苗の活込状況及び入手先'!$B4:$B15,"2月",'２．種苗の活込状況及び入手先'!$D4:$D15,"<2") -> 0 | E6: =SUMIF('２．種苗の活込状況及び入手先'!B18:B29,【自動集計表】!B6,'２．種苗の活込状況及び入手先'!C18:C29) -> 0 | F6: =SUMIF('４．移送された状況'!$B$4:$B$15,【自動集計表】!$B6,'４．移送された状況'!$C$4:$C$15) -> 0 | G6: =SUMIF('４．移送された状況'!$B$18:$B$29,【自動集計表】!$B6,'４．移送された状況'!$C$18:$C$29) -> 0 | H6: =SUMIF('３．移送した状況'!$B$4:$B$15,【自動集計表】!$B6,'３．移送した状況'!$C$4:$C$15) -> 0 | I6: =SUMIF('３．移送した状況'!$B$18:$B$29,【自動集計表】!$B6,'３．移送した状況'!$C$18:$C$29) -> 0 | J6: =SUMIF('６．出荷状況'!B4:B15,【自動集計表】!B6,'６．出荷状況'!C4:C15) -> 0 | K6: =SUMIF('６．出荷状況'!$B$4:$B$15,【自動集計表】!$B6,'６．出荷状況'!$D$4:$D$15) -> 0 | L6: =K6/J6 -> #DIV/0! | M6: =SUMIF('６．出荷状況'!B18:B29,【自動集計表】!B6,'６．出荷状況'!C18:C29) -> 0 | N6: =SUMIF('６．出荷状況'!$B$18:$B$29,【自動集計表】!$B6,'６．出荷状況'!$D$18:$D$29) -> 0 | O6: =N6/M6 -> #DIV/0! | P6: =SUMIF('５．斃死状況'!B4:B15,【自動集計表】!B6,'５．斃死状況'!C4:C15) -> 0 | Q6: =SUMIF('５．斃死状況'!B18:B29,【自動集計表】!B6,'５．斃死状況'!C18:C29) -> 0 | R6: =+R5+SUM(C6:G6)-(+SUM(H6:I6,J6,M6,P6:Q6)) -> 0
B7: 3月 | C7: =+SUMIFS('２．種苗の活込状況及び入手先'!$C4:$C15,'２．種苗の活込状況及び入手先'!$B4:$B15,"3月",'２．種苗の活込状況及び入手先'!$D4:$D15,">=2") -> 0 | D7: =+SUMIFS('２．種苗の活込状況及び入手先'!$C4:$C15,'２．種苗の活込状況及び入手先'!$B4:$B15,"3月",'２．種苗の活込状況及び入手先'!$D4:$D15,"<2") -> 0 | E7: =SUMIF('２．種苗の活込状況及び入手先'!B18:B29,【自動集計表】!B7,'２．種苗の活込状況及び入手先'!C18:C29) -> 0 | F7: =SUMIF('４．移送された状況'!$B$4:$B$15,【自動集計表】!$B7,'４．移送された状況'!$C$4:$C$15) -> 0 | G7: =SUMIF('４．移送された状況'!$B$18:$B$29,【自動集計表】!$B7,'４．移送された状況'!$C$18:$C$29) -> 0 | H7: =SUMIF('３．移送した状況'!$B$4:$B$15,【自動集計表】!$B7,'３．移送した状況'!$C$4:$C$15) -> 0 | I7: =SUMIF('３．移送した状況'!$B$18:$B$29,【自動集計表】!$B7,'３．移送した状況'!$C$18:$C$29) -> 0 | J7: =SUMIF('６．出荷状況'!B4:B15,【自動集計表】!B7,'６．出荷状況'!C4:C15) -> 0 | K7: =SUMIF('６．出荷状況'!$B$4:$B$15,【自動集計表】!$B7,'６．出荷状況'!$D$4:$D$15) -> 0 | L7: =K7/J7 -> #DIV/0! | M7: =SUMIF('６．出荷状況'!B18:B29,【自動集計表】!B7,'６．出荷状況'!C18:C29) -> 0 | N7: =SUMIF('６．出荷状況'!$B$18:$B$29,【自動集計表】!$B7,'６．出荷状況'!$D$18:$D$29) -> 0 | O7: =N7/M7 -> #DIV/0! | P7: =SUMIF('５．斃死状況'!B4:B15,【自動集計表】!B7,'５．斃死状況'!C4:C15) -> 0 | Q7: =SUMIF('５．斃死状況'!B18:B29,【自動集計表】!B7,'５．斃死状況'!C18:C29) -> 0 | R7: =+R6+SUM(C7:G7)-(+SUM(H7:I7,J7,M7,P7:Q7)) -> 0
B8: 4月 | C8: =+SUMIFS('２．種苗の活込状況及び入手先'!$C4:$C15,'２．種苗の活込状況及び入手先'!$B4:$B15,"4月",'２．種苗の活込状況及び入手先'!$D4:$D15,">=2") -> 0 | D8: =+SUMIFS('２．種苗の活込状況及び入手先'!$C4:$C15,'２．種苗の活込状況及び入手先'!$B4:$B15,"4月",'２．種苗の活込状況及び入手先'!$D4:$D15,"<2") -> 0 | E8: =SUMIF('２．種苗の活込状況及び入手先'!B18:B29,【自動集計表】!B8,'２．種苗の活込状況及び入手先'!C18:C29) -> 0 | F8: =SUMIF('４．移送された状況'!$B$4:$B$15,【自動集計表】!$B8,'４．移送された状況'!$C$4:$C$15) -> 0 | G8: =SUMIF('４．移送された状況'!$B$18:$B$29,【自動集計表】!$B8,'４．移送された状況'!$C$18:$C$29) -> 0 | H8: =SUMIF('３．移送した状況'!$B$4:$B$15,【自動集計表】!$B8,'３．移送した状況'!$C$4:$C$15) -> 0 | I8: =SUMIF('３．移送した状況'!$B$18:$B$29,【自動集計表】!$B8,'３．移送した状況'!$C$18:$C$29) -> 0 | J8: =SUMIF('６．出荷状況'!B4:B15,【自動集計表】!B8,'６．出荷状況'!C4:C15) -> 0 | K8: =SUMIF('６．出荷状況'!$B$4:$B$15,【自動集計表】!$B8,'６．出荷状況'!$D$4:$D$15) -> 0 | L8: =K8/J8 -> #DIV/0! | M8: =SUMIF('６．出荷状況'!B18:B29,【自動集計表】!B8,'６．出荷状況'!C18:C29) -> 0 | N8: =SUMIF('６．出荷状況'!$B$18:$B$29,【自動集計表】!$B8,'６．出荷状況'!$D$18:$D$29) -> 0 | O8: =N8/M8 -> #DIV/0! | P8: =SUMIF('５．斃死状況'!B4:B15,【自動集計表】!B8,'５．斃死状況'!C4:C15) -> 0 | Q8: =SUMIF('５．斃死状況'!B18:B29,【自動集計表】!B8,'５．斃死状況'!C18:C29) -> 0 | R8: =+R7+SUM(C8:G8)-(+SUM(H8:I8,J8,M8,P8:Q8)) -> 0
B9: 5月 | C9: =+SUMIFS('２．種苗の活込状況及び入手先'!$C4:$C15,'２．種苗の活込状況及び入手先'!$B4:$B15,"5月",'２．種苗の活込状況及び入手先'!$D4:$D15,">=2") -> 0 | D9: =+SUMIFS('２．種苗の活込状況及び入手先'!$C4:$C15,'２．種苗の活込状況及び入手先'!$B4:$B15,"5月",'２．種苗の活込状況及び入手先'!$D4:$D15,"<2") -> 0 | E9: =SUMIF('２．種苗の活込状況及び入手先'!B18:B29,【自動集計表】!B9,'２．種苗の活込状況及び入手先'!C18:C29) -> 0 | F9: =SUMIF('４．移送された状況'!$B$4:$B$15,【自動集計表】!$B9,'４．移送された状況'!$C$4:$C$15) -> 0 | G9: =SUMIF('４．移送された状況'!$B$18:$B$29,【自動集計表】!$B9,'４．移送された状況'!$C$18:$C$29) -> 0 | H9: =SUMIF('３．移送した状況'!$B$4:$B$15,【自動集計表】!$B9,'３．移送した状況'!$C$4:$C$15) -> 0 | I9: =SUMIF('３．移送した状況'!$B$18:$B$29,【自動集計表】!$B9,'３．移送した状況'!$C$18:$C$29) -> 0 | J9: =SUMIF('６．出荷状況'!B4:B15,【自動集計表】!B9,'６．出荷状況'!C4:C15) -> 0 | K9: =SUMIF('６．出荷状況'!$B$4:$B$15,【自動集計表】!$B9,'６．出荷状況'!$D$4:$D$15) -> 0 | L9: =K9/J9 -> #DIV/0! | M9: =SUMIF('６．出荷状況'!B18:B29,【自動集計表】!B9,'６．出荷状況'!C18:C29) -> 0 | N9: =SUMIF('６．出荷状況'!$B$18:$B$29,【自動集計表】!$B9,'６．出荷状況'!$D$18:$D$29) -> 0 | O9: =N9/M9 -> #DIV/0! | P9: =SUMIF('５．斃死状況'!B4:B15,【自動集計表】!B9,'５．斃死状況'!C4:C15) -> 0 | Q9: =SUMIF('５．斃死状況'!B18:B29,【自動集計表】!B9,'５．斃死状況'!C18:C29) -> 0 | R9: =+R8+SUM(C9:G9)-(+SUM(H9:I9,J9,M9,P9:Q9)) -> 0
B10: 6月 | C10: =+SUMIFS('２．種苗の活込状況及び入手先'!$C4:$C15,'２．種苗の活込状況及び入手先'!$B4:$B15,"6月",'２．種苗の活込状況及び入手先'!$D4:$D15,">=2") -> 0 | D10: =+SUMIFS('２．種苗の活込状況及び入手先'!$C4:$C15,'２．種苗の活込状況及び入手先'!$B4:$B15,"6月",'２．種苗の活込状況及び入手先'!$D4:$D15,"<2") -> 0 | E10: =SUMIF('２．種苗の活込状況及び入手先'!B18:B29,【自動集計表】!B10,'２．種苗の活込状況及び入手先'!C18:C29) -> 0 | F10: =SUMIF('４．移送された状況'!$B$4:$B$15,【自動集計表】!$B10,'４．移送された状況'!$C$4:$C$15) -> 0 | G10: =SUMIF('４．移送された状況'!$B$18:$B$29,【自動集計表】!$B10,'４．移送された状況'!$C$18:$C$29) -> 0 | H10: =SUMIF('３．移送した状況'!$B$4:$B$15,【自動集計表】!$B10,'３．移送した状況'!$C$4:$C$15) -> 0 | I10: =SUMIF('３．移送した状況'!$B$18:$B$29,【自動集計表】!$B10,'３．移送した状況'!$C$18:$C$29) -> 0 | J10: =SUMIF('６．出荷状況'!B4:B15,【自動集計表】!B10,'６．出荷状況'!C4:C15) -> 0 | K10: =SUMIF('６．出荷状況'!$B$4:$B$15,【自動集計表】!$B10,'６．出荷状況'!$D$4:$D$15) -> 0 | L10: =K10/J10 -> #DIV/0! | M10: =SUMIF('６．出荷状況'!B18:B29,【自動集計表】!B10,'６．出荷状況'!C18:C29) -> 0 | N10: =SUMIF('６．出荷状況'!$B$18:$B$29,【自動集計表】!$B10,'６．出荷状況'!$D$18:$D$29) -> 0 | O10: =N10/M10 -> #DIV/0! | P10: =SUMIF('５．斃死状況'!B4:B15,【自動集計表】!B10,'５．斃死状況'!C4:C15) -> 0 | Q10: =SUMIF('５．斃死状況'!B18:B29,【自動集計表】!B10,'５．斃死状況'!C18:C29) -> 0 | R10: =+R9+SUM(C10:G10)-(+SUM(H10:I10,J10,M10,P10:Q10)) -> 0
B11: 7月 | C11: =+SUMIFS('２．種苗の活込状況及び入手先'!$C4:$C15,'２．種苗の活込状況及び入手先'!$B4:$B15,"7月",'２．種苗の活込状況及び入手先'!$D4:$D15,">=2") -> 0 | D11: =+SUMIFS('２．種苗の活込状況及び入手先'!$C4:$C15,'２．種苗の活込状況及び入手先'!$B4:$B15,"7月",'２．種苗の活込状況及び入手先'!$D4:$D15,"<2") -> 0 | E11: =SUMIF('２．種苗の活込状況及び入手先'!B18:B29,【自動集計表】!B11,'２．種苗の活込状況及び入手先'!C18:C29) -> 0 | F11: =SUMIF('４．移送された状況'!$B$4:$B$15,【自動集計表】!$B11,'４．移送された状況'!$C$4:$C$15) -> 0 | G11: =SUMIF('４．移送された状況'!$B$18:$B$29,【自動集計表】!$B11,'４．移送された状況'!$C$18:$C$29) -> 0 | H11: =SUMIF('３．移送した状況'!$B$4:$B$15,【自動集計表】!$B11,'３．移送した状況'!$C$4:$C$15) -> 0 | I11: =SUMIF('３．移送した状況'!$B$18:$B$29,【自動集計表】!$B11,'３．移送した状況'!$C$18:$C$29) -> 0 | J11: =SUMIF('６．出荷状況'!B4:B15,【自動集計表】!B11,'６．出荷状況'!C4:C15) -> 0 | K11: =SUMIF('６．出荷状況'!$B$4:$B$15,【自動集計表】!$B11,'６．出荷状況'!$D$4:$D$15) -> 0 | L11: =K11/J11 -> #DIV/0! | M11: =SUMIF('６．出荷状況'!B18:B29,【自動集計表】!B11,'６．出荷状況'!C18:C29) -> 0 | N11: =SUMIF('６．出荷状況'!$B$18:$B$29,【自動集計表】!$B11,'６．出荷状況'!$D$18:$D$29) -> 0 | O11: =N11/M11 -> #DIV/0! | P11: =SUMIF('５．斃死状況'!B4:B15,【自動集計表】!B11,'５．斃死状況'!C4:C15) -> 0 | Q11: =SUMIF('５．斃死状況'!B18:B29,【自動集計表】!B11,'５．斃死状況'!C18:C29) -> 0 | R11: =+R10+SUM(C11:G11)-(+SUM(H11:I11,J11,M11,P11:Q11)) -> 0
B12: 8月 | C12: =+SUMIFS('２．種苗の活込状況及び入手先'!$C4:$C15,'２．種苗の活込状況及び入手先'!$B4:$B15,"8月",'２．種苗の活込状況及び入手先'!$D4:$D15,">=2") -> 0 | D12: =+SUMIFS('２．種苗の活込状況及び入手先'!$C4:$C15,'２．種苗の活込状況及び入手先'!$B4:$B15,"8月",'２．種苗の活込状況及び入手先'!$D4:$D15,"<2") -> 0 | E12: =SUMIF('２．種苗の活込状況及び入手先'!B18:B29,【自動集計表】!B12,'２．種苗の活込状況及び入手先'!C18:C29) -> 0 | F12: =SUMIF('４．移送された状況'!$B$4:$B$15,【自動集計表】!$B12,'４．移送された状況'!$C$4:$C$15) -> 0 | G12: =SUMIF('４．移送された状況'!$B$18:$B$29,【自動集計表】!$B12,'４．移送された状況'!$C$18:$C$29) -> 0 | H12: =SUMIF('３．移送した状況'!$B$4:$B$15,【自動集計表】!$B12,'３．移送した状況'!$C$4:$C$15) -> 0 | I12: =SUMIF('３．移送した状況'!$B$18:$B$29,【自動集計表】!$B12,'３．移送した状況'!$C$18:$C$29) -> 0 | J12: =SUMIF('６．出荷状況'!B4:B15,【自動集計表】!B12,'６．出荷状況'!C4:C15) -> 0 | K12: =SUMIF('６．出荷状況'!$B$4:$B$15,【自動集計表】!$B12,'６．出荷状況'!$D$4:$D$15) -> 0 | L12: =K12/J12 -> #DIV/0! | M12: =SUMIF('６．出荷状況'!B18:B29,【自動集計表】!B12,'６．出荷状況'!C18:C29) -> 0 | N12: =SUMIF('６．出荷状況'!$B$18:$B$29,【自動集計表】!$B12,'６．出荷状況'!$D$18:$D$29) -> 0 | O12: =N12/M12 -> #DIV/0! | P12: =SUMIF('５．斃死状況'!B4:B15,【自動集計表】!B12,'５．斃死状況'!C4:C15) -> 0 | Q12: =SUMIF('５．斃死状況'!B18:B29,【自動集計表】!B12,'５．斃死状況'!C18:C29) -> 0 | R12: =+R11+SUM(C12:G12)-(+SUM(H12:I12,J12,M12,P12:Q12)) -> 0
B13: 9月 | C13: =+SUMIFS('２．種苗の活込状況及び入手先'!$C4:$C15,'２．種苗の活込状況及び入手先'!$B4:$B15,"9月",'２．種苗の活込状況及び入手先'!$D4:$D15,">=2") -> 0 | D13: =+SUMIFS('２．種苗の活込状況及び入手先'!$C4:$C15,'２．種苗の活込状況及び入手先'!$B4:$B15,"9月",'２．種苗の活込状況及び入手先'!$D4:$D15,"<2") -> 0 | E13: =SUMIF('２．種苗の活込状況及び入手先'!B18:B29,【自動集計表】!B13,'２．種苗の活込状況及び入手先'!C18:C29) -> 0 | F13: =SUMIF('４．移送された状況'!$B$4:$B$15,【自動集計表】!$B13,'４．移送された状況'!$C$4:$C$15) -> 0 | G13: =SUMIF('４．移送された状況'!$B$18:$B$29,【自動集計表】!$B13,'４．移送された状況'!$C$18:$C$29) -> 0 | H13: =SUMIF('３．移送した状況'!$B$4:$B$15,【自動集計表】!$B13,'３．移送した状況'!$C$4:$C$15) -> 0 | I13: =SUMIF('３．移送した状況'!$B$18:$B$29,【自動集計表】!$B13,'３．移送した状況'!$C$18:$C$29) -> 0 | J13: =SUMIF('６．出荷状況'!B4:B15,【自動集計表】!B13,'６．出荷状況'!C4:C15) -> 0 | K13: =SUMIF('６．出荷状況'!$B$4:$B$15,【自動集計表】!$B13,'６．出荷状況'!$D$4:$D$15) -> 0 | L13: =K13/J13 -> #DIV/0! | M13: =SUMIF('６．出荷状況'!B18:B29,【自動集計表】!B13,'６．出荷状況'!C18:C29) -> 0 | N13: =SUMIF('６．出荷状況'!$B$18:$B$29,【自動集計表】!$B13,'６．出荷状況'!$D$18:$D$29) -> 0 | O13: =N13/M13 -> #DIV/0! | P13: =SUMIF('５．斃死状況'!B4:B15,【自動集計表】!B13,'５．斃死状況'!C4:C15) -> 0 | Q13: =SUMIF('５．斃死状況'!B18:B29,【自動集計表】!B13,'５．斃死状況'!C18:C29) -> 0 | R13: =+R12+SUM(C13:G13)-(+SUM(H13:I13,J13,M13,P13:Q13)) -> 0
B14: 10月 | C14: =+SUMIFS('２．種苗の活込状況及び入手先'!$C4:$C15,'２．種苗の活込状況及び入手先'!$B4:$B15,"10月",'２．種苗の活込状況及び入手先'!$D4:$D15,">=2") -> 0 | D14: =+SUMIFS('２．種苗の活込状況及び入手先'!$C4:$C15,'２．種苗の活込状況及び入手先'!$B4:$B15,"10月",'２．種苗の活込状況及び入手先'!$D4:$D15,"<2") -> 0 | E14: =SUMIF('２．種苗の活込状況及び入手先'!B18:B29,【自動集計表】!B14,'２．種苗の活込状況及び入手先'!C18:C29) -> 0 | F14: =SUMIF('４．移送された状況'!$B$4:$B$15,【自動集計表】!$B14,'４．移送された状況'!$C$4:$C$15) -> 0 | G14: =SUMIF('４．移送された状況'!$B$18:$B$29,【自動集計表】!$B14,'４．移送された状況'!$C$18:$C$29) -> 0 | H14: =SUMIF('３．移送した状況'!$B$4:$B$15,【自動集計表】!$B14,'３．移送した状況'!$C$4:$C$15) -> 0 | I14: =SUMIF('３．移送した状況'!$B$18:$B$29,【自動集計表】!$B14,'３．移送した状況'!$C$18:$C$29) -> 0 | J14: =SUMIF('６．出荷状況'!B4:B15,【自動集計表】!B14,'６．出荷状況'!C4:C15) -> 0 | K14: =SUMIF('６．出荷状況'!$B$4:$B$15,【自動集計表】!$B14,'６．出荷状況'!$D$4:$D$15) -> 0 | L14: =K14/J14 -> #DIV/0! | M14: =SUMIF('６．出荷状況'!B18:B29,【自動集計表】!B14,'６．出荷状況'!C18:C29) -> 0 | N14: =SUMIF('６．出荷状況'!$B$18:$B$29,【自動集計表】!$B14,'６．出荷状況'!$D$18:$D$29) -> 0 | O14: =N14/M14 -> #DIV/0! | P14: =SUMIF('５．斃死状況'!B4:B15,【自動集計表】!B14,'５．斃死状況'!C4:C15) -> 0 | Q14: =SUMIF('５．斃死状況'!B18:B29,【自動集計表】!B14,'５．斃死状況'!C18:C29) -> 0 | R14: =+R13+SUM(C14:G14)-(+SUM(H14:I14,J14,M14,P14:Q14)) -> 0
B15: 11月 | C15: =+SUMIFS('２．種苗の活込状況及び入手先'!$C4:$C15,'２．種苗の活込状況及び入手先'!$B4:$B15,"11月",'２．種苗の活込状況及び入手先'!$D4:$D15,">=2") -> 0 | D15: =+SUMIFS('２．種苗の活込状況及び入手先'!$C4:$C15,'２．種苗の活込状況及び入手先'!$B4:$B15,"11月",'２．種苗の活込状況及び入手先'!$D4:$D15,"<2") -> 0 | E15: =SUMIF('２．種苗の活込状況及び入手先'!B18:B29,【自動集計表】!B15,'２．種苗の活込状況及び入手先'!C18:C29) -> 0 | F15: =SUMIF('４．移送された状況'!$B$4:$B$15,【自動集計表】!$B15,'４．移送された状況'!$C$4:$C$15) -> 0 | G15: =SUMIF('４．移送された状況'!$B$18:$B$29,【自動集計表】!$B15,'４．移送された状況'!$C$18:$C$29) -> 0 | H15: =SUMIF('３．移送した状況'!$B$4:$B$15,【自動集計表】!$B15,'３．移送した状況'!$C$4:$C$15) -> 0 | I15: =SUMIF('３．移送した状況'!$B$18:$B$29,【自動集計表】!$B15,'３．移送した状況'!$C$18:$C$29) -> 0 | J15: =SUMIF('６．出荷状況'!B4:B15,【自動集計表】!B15,'６．出荷状況'!C4:C15) -> 0 | K15: =SUMIF('６．出荷状況'!$B$4:$B$15,【自動集計表】!$B15,'６．出荷状況'!$D$4:$D$15) -> 0 | L15: =K15/J15 -> #DIV/0! | M15: =SUMIF('６．出荷状況'!B18:B29,【自動集計表】!B15,'６．出荷状況'!C18:C29) -> 0 | N15: =SUMIF('６．出荷状況'!$B$18:$B$29,【自動集計表】!$B15,'６．出荷状況'!$D$18:$D$29) -> 0 | O15: =N15/M15 -> #DIV/0! | P15: =SUMIF('５．斃死状況'!B4:B15,【自動集計表】!B15,'５．斃死状況'!C4:C15) -> 0 | Q15: =SUMIF('５．斃死状況'!B18:B29,【自動集計表】!B15,'５．斃死状況'!C18:C29) -> 0 | R15: =+R14+SUM(C15:G15)-(+SUM(H15:I15,J15,M15,P15:Q15)) -> 0
B16: 12月 | C16: =+SUMIFS('２．種苗の活込状況及び入手先'!$C4:$C15,'２．種苗の活込状況及び入手先'!$B4:$B15,"12月",'２．種苗の活込状況及び入手先'!$D4:$D15,">=2") -> 0 | D16: =+SUMIFS('２．種苗の活込状況及び入手先'!$C4:$C15,'２．種苗の活込状況及び入手先'!$B4:$B15,"12月",'２．種苗の活込状況及び入手先'!$D4:$D15,"<2") -> 0 | E16: =SUMIF('２．種苗の活込状況及び入手先'!B18:B29,【自動集計表】!B16,'２．種苗の活込状況及び入手先'!C18:C29) -> 0 | F16: =SUMIF('４．移送された状況'!$B$4:$B$15,【自動集計表】!$B16,'４．移送された状況'!$C$4:$C$15) -> 0 | G16: =SUMIF('４．移送された状況'!$B$18:$B$29,【自動集計表】!$B16,'４．移送された状況'!$C$18:$C$29) -> 0 | H16: =SUMIF('３．移送した状況'!$B$4:$B$15,【自動集計表】!$B16,'３．移送した状況'!$C$4:$C$15) -> 0 | I16: =SUMIF('３．移送した状況'!$B$18:$B$29,【自動集計表】!$B16,'３．移送した状況'!$C$18:$C$29) -> 0 | J16: =SUMIF('６．出荷状況'!B4:B15,【自動集計表】!B16,'６．出荷状況'!C4:C15) -> 0 | K16: =SUMIF('６．出荷状況'!$B$4:$B$15,【自動集計表】!$B16,'６．出荷状況'!$D$4:$D$15) -> 0 | L16: =K16/J16 -> #DIV/0! | M16: =SUMIF('６．出荷状況'!B18:B29,【自動集計表】!B16,'６．出荷状況'!C18:C29) -> 0 | N16: =SUMIF('６．出荷状況'!$B$18:$B$29,【自動集計表】!$B16,'６．出荷状況'!$D$18:$D$29) -> 0 | O16: =N16/M16 -> #DIV/0! | P16: =SUMIF('５．斃死状況'!B4:B15,【自動集計表】!B16,'５．斃死状況'!C4:C15) -> 0 | Q16: =SUMIF('５．斃死状況'!B18:B29,【自動集計表】!B16,'５．斃死状況'!C18:C29) -> 0 | R16: =+R15+SUM(C16:G16)-(+SUM(H16:I16,J16,M16,P16:Q16)) -> 0
B17: 合計 | C17: =+SUM(C5:C16) -> 0 | D17: =SUM(D5:D16) -> 0 | E17: =SUM(E5:E16) -> 0 | F17: =SUM(F5:F16) -> 0 | G17: =SUM(G5:G16) -> 0 | H17: =SUM(H5:H16) -> 0 | I17: =SUM(I5:I16) -> 0 | J17: =SUM(J5:J16) -> 0 | K17: =SUM(K5:K16) -> 0 | L17: =K17/J17 -> #DIV/0! | M17: =SUM(M5:M16) -> 0 | N17: =SUM(N5:N16) -> 0 | O17: =N17/M17 -> #DIV/0! | P17: =SUM(P5:P16) -> 0 | Q17: =SUM(Q5:Q16) -> 0 | R17: =SUM(C17:G17)-(+SUM(H17:I17,J17,M17,P17:Q17)) -> 0
B18: 沿岸由来 | C18: =+SUMIF('２．種苗の活込状況及び入手先'!E4:E15,"曳き縄",'２．種苗の活込状況及び入手先'!C4:C15)+SUMIF('２．種苗の活込状況及び入手先'!E4:E15,"釣り",'２．種苗の活込状況及び入手先'!C4:C15)+SUMIF('２．種苗の活込状況及び入手先'!E4:E15,"その他",'２．種苗の活込状況及び入手先'!C4:C15) -> 0
B19: まき網由来 | C19: =+SUMIF('２．種苗の活込状況及び入手先'!E4:E15,"まき網",'２．種苗の活込状況及び入手先'!C4:C15) -> 0

Sheet Sheet1
B1: 都道府県名
A2: 1月 | B2: 北海道 | D2: 令和 年
A3: 2月 | B3: 青森県 | D3: 令和元年
A4: 3月 | B4: 岩手県 | D4: 令和２年
A5: 4月 | B5: 宮城県 | D5: 令和３年
A6: 5月 | B6: 秋田県 | D6: 令和４年
A7: 6月 | B7: 山形県 | D7: 令和５年
A8: 7月 | B8: 福島県 | D8: 令和６年
A9: 8月 | B9: 茨城県 | D9: 令和７年
A10: 9月 | B10: 栃木県 | D10: 令和８年
A11: 10月 | B11: 群馬県 | D11: 令和９年
A12: 11月 | B12: 埼玉県 | D12: 令和１０年
A13: 12月 | B13: 千葉県 | D13: 令和１１年
B14: 東京都 | D14: 令和１２年
B15: 神奈川県 | D15: 令和１３年
B16: 新潟県 | D16: 令和１４年
B17: 富山県 | D17: 令和１５年
B18: 石川県 | D18: 令和１６年
B19: 福井県 | D19: 令和１７年
B20: 山梨県 | D20: 令和１８年
B21: 長野県 | D21: 令和１９年
B22: 岐阜県 | D22: 令和２０年
B23: 静岡県 | D23: 令和２１年
B24: 愛知県 | D24: 令和２２年
B25: 三重県 | D25: 令和２３年
... B48: 沖縄県 | D48: 令和４６年
D49: 令和４７年
D50: 令和４８年
D51: 令和４９年
D52: 令和５０年
D53: 令和５１年
D54: 令和５２年
D55: 令和５３年
D56: 令和５４年
D57: 令和５５年
D58: 令和５６年
